Workbook
Name Duración: Hitos[Proxima calibración]
Name Fecha_de_finalización: 'TABLA DE DATOS'!#REF!
Name Fecha_de_inicio: 'TABLA DE DATOS'!#REF!
Name Hito: Hitos[EQUIPO]
Name IncrementoDeDesplazamiento: #REF!
Name InicioElDía: Hitos[Dias Restantes]
Name TablaFechaDeInicio: Hitos[Fecha de inicio]

Sheet TABLA DE DATOS
B1: GESTIÓN POSVENTA | I1: Código: GP-FOR-55
B2: CONTROL CALENDARIO METROLOGICO | I2: Versión: 01
I3: Fecha: 23/01/2026
A4: Escriba la fecha de calibración. | B4: Escriba la fecha de la proxima calibración, con diferencia de un mes | C4: Escriba el nombre del equipo. | E4: DIAS RESTANTES | F4: PORCENTAJE DE USO DE LA HERRAMIENTA
A5: Fecha de inicio | B5: fecha proxima | C5: EQUIPO | D5: DIAS CON CALIBRACIÓN | E5: Dias Restantes | F5: Proxima calibración
A6: 46006 | B6: =Hitos[[#This Row],[Fecha de inicio]]+150 -> 46156 | C6: TORQUE 1/2 6014C | D6: =Hitos[[#This Row],[fecha proxima]]-Hitos[[#This Row],[Fecha de inicio]] -> 150 | E6: =Hitos[[#This Row],[fecha proxima]]-TODAY() -> 69 | F6: =Hitos[[#This Row],[Dias Restantes]]/Hitos[[#This Row],[DIAS CON CALIBRACIÓN]] -> 0.46
A7: 46006 | B7: =Hitos[[#This Row],[Fecha de inicio]]+150 -> 46156 | C7: TORQUE 1/4 2S254 | D7: =Hitos[[#This Row],[fecha proxima]]-Hitos[[#This Row],[Fecha de inicio]] -> 150 | E7: =Hitos[[#This Row],[fecha proxima]]-TODAY() -> 69 | F7: =Hitos[[#This Row],[Dias Restantes]]/Hitos[[#This Row],[DIAS CON CALIBRACIÓN]] -> 0.46
A8: 46006 | B8: =Hitos[[#This Row],[Fecha de inicio]]+150 -> 46156 | C8: TORQUE 3/8 64733655 | D8: =Hitos[[#This Row],[fecha proxima]]-Hitos[[#This Row],[Fecha de inicio]] -> 150 | E8: =Hitos[[#This Row],[fecha proxima]]-TODAY() -> 69 | F8: =Hitos[[#This Row],[Dias Restantes]]/Hitos[[#This Row],[DIAS CON CALIBRACIÓN]] -> 0.46
A9: 46046 | B9: =Hitos[[#This Row],[Fecha de inicio]]+150 -> 46196 | C9: VAS 1783 | D9: =Hitos[[#This Row],[fecha proxima]]-Hitos[[#This Row],[Fecha de inicio]] -> 150 | E9: =Hitos[[#This Row],[fecha proxima]]-TODAY() -> 109 | F9: =Hitos[[#This Row],[Dias Restantes]]/Hitos[[#This Row],[DIAS CON CALIBRACIÓN]] -> 0.72666667
A10: 46002 | B10: =Hitos[[#This Row],[Fecha de inicio]]+335 -> 46337 | C10: VAS 6096 | D10: =Hitos[[#This Row],[fecha proxima]]-Hitos[[#This Row],[Fecha de inicio]] -> 335 | E10: =Hitos[[#This Row],[fecha proxima]]-TODAY() -> 250 | F10: =Hitos[[#This Row],[Dias Restantes]]/Hitos[[#This Row],[DIAS CON CALIBRACIÓN]] -> 0.74626866
A11: 46002 | B11: =Hitos[[#This Row],[Fecha de inicio]]+335 -> 46337 | C11: VAG 1274B | D11: =Hitos[[#This Row],[fecha proxima]]-Hitos[[#This Row],[Fecha de inicio]] -> 335 | E11: =Hitos[[#This Row],[fecha proxima]]-TODAY() -> 250 | F11: =Hitos[[#This Row],[Dias Restantes]]/Hitos[[#This Row],[DIAS CON CALIBRACIÓN]] -> 0.74626866
A12: 46088 | B12: =Hitos[[#This Row],[Fecha de inicio]]+335 -> 46423 | C12: VAG 1763 | D12: =Hitos[[#This Row],[fecha proxima]]-Hitos[[#This Row],[Fecha de inicio]] -> 335 | E12: =Hitos[[#This Row],[fecha proxima]]-TODAY() -> 336 | F12: =Hitos[[#This Row],[Dias Restantes]]/Hitos[[#This Row],[DIAS CON CALIBRACIÓN]] -> 1.0029851
A13: 45659 | B13: =Hitos[[#This Row],[Fecha de inicio]]+700 -> 46359 | C13: VAG 6550 | D13: =Hitos[[#This Row],[fecha proxima]]-Hitos[[#This Row],[Fecha de inicio]] -> 700 | E13: =Hitos[[#This Row],[fecha proxima]]-TODAY() -> 272 | F13: =Hitos[[#This Row],[Dias Restantes]]/Hitos[[#This Row],[DIAS CON CALIBRACIÓN]] -> 0.38857143
A14: 45674 | B14: =Hitos[[#This Row],[Fecha de inicio]]+700 -> 46374 | C14: VAS 6551A | D14: =Hitos[[#This Row],[fecha proxima]]-Hitos[[#This Row],[Fecha de inicio]] -> 700 | E14: =Hitos[[#This Row],[fecha proxima]]-TODAY() -> 287 | F14: =Hitos[[#This Row],[Dias Restantes]]/Hitos[[#This Row],[DIAS CON CALIBRACIÓN]] -> 0.41
A15: 46088 | B15: =Hitos[[#This Row],[Fecha de inicio]]+700 -> 46788 | C15: CALIBRADOR DE NEUMATICOS | D15: =Hitos[[#This Row],[fecha proxima]]-Hitos[[#This Row],[Fecha de inicio]] -> 700 | E15: =Hitos[[#This Row],[fecha proxima]]-TODAY() -> 701 | F15: =Hitos[[#This Row],[Dias Restantes]]/Hitos[[#This Row],[DIAS CON CALIBRACIÓN]] -> 1.0014286
A16: 46002 | B16: 47463 | C16: VAG1402 | D16: =Hitos[[#This Row],[fecha proxima]]-Hitos[[#This Row],[Fecha de inicio]] -> 1461 | E16: =Hitos[[#This Row],[fecha proxima]]-TODAY() -> 1376 | F16: =Hitos[[#This Row],[Dias Restantes]]/Hitos[[#This Row],[DIAS CON CALIBRACIÓN]] -> 0.94182067
A17: 46002 | B17: 47463 | C17: VAG1702 | D17: =Hitos[[#This Row],[fecha proxima]]-Hitos[[#This Row],[Fecha de inicio]] -> 1461 | E17: =Hitos[[#This Row],[fecha proxima]]-TODAY() -> 1376 | F17: =Hitos[[#This Row],[Dias Restantes]]/Hitos[[#This Row],[DIAS CON CALIBRACIÓN]] -> 0.94182067
C18: VAG1397A | D18: =Hitos[[#This Row],[fecha proxima]]-Hitos[[#This Row],[Fecha de inicio]] -> 0 | E18: =Hitos[[#This Row],[fecha proxima]]-TODAY() -> -46087 | F18: =Hitos[[#This Row],[Dias Restantes]]/Hitos[[#This Row],[DIAS CON CALIBRACIÓN]] -> #DIV/0!

Sheet GRAFICAS
A1: SEGUIMIENTO EQUIPOS METROLOGICOS

Sheet Datos de gráf. dinám. (ocultos)
A1: El título de esta hoja de cálculo se encuentra en la celda B1. | B1: Datos de gráfico dinámicos
A2: El encabezado del incremento de desplazamiento horizontal se encuentra en la celda B2. Para incrementar los datos de forma manual, escriba un nuevo valor en la celda B3. La página de desplazamiento se actualiza automáticamente cuando la barra de desplazamiento avanza o retrocede una página en la hoja de cálculo Diagrama de Gantt. | B2: incremento de desplazamiento horizontal
A3: El valor de desplazamiento del diagrama de Gantt que se actualiza automáticamente se encuentra en la celda B3. | B3: 0
A4: El título de la tabla se encuentra en la celda B4. | B4: Tabla de datos dinámicos
A5: Los encabezados de la tabla se encuentran en las celdas de B5 a E5. Hay una nota en la celda F5. En esta tabla, se representarán hasta 5 hitos a la vez. No modifique ni elimine esta hoja de cálculo ni sus contenidos. | B5: hito | C5: fecha | D5: Inicio el día | E5: duración | F5: <-- Se representarán hasta 5 hitos a la vez.
B6: =IFERROR(IF(LEN(OFFSET('TABLA DE DATOS'!$C6,$B$3,0,1,1))=0,"",INDEX(Hitos[],'TABLA DE DATOS'!#REF!+$B$3,4)),"") | C6: =IFERROR(IF(LEN(OFFSET('TABLA DE DATOS'!$A6,$B$3,0,1,1))=0,Fecha_de_finalización,INDEX(Hitos[],'TABLA DE DATOS'!#REF!+$B$3,2)),"") | D6: =IFERROR(IF(LEN(OFFSET('TABLA DE DATOS'!$E6,$B$3,0,1,1))=0,"",INDEX(Hitos[],'TABLA DE DATOS'!#REF!+$B$3,5)),"") | E6: =IFERROR(IF(LEN(OFFSET('TABLA DE DATOS'!$F6,$B$3,0,1,1))=0,"",INDEX(Hitos[],'TABLA DE DATOS'!#REF!+$B$3,6)),"")
B7: =IFERROR(IF(LEN(OFFSET('TABLA DE DATOS'!$C7,$B$3,0,1,1))=0,"",INDEX(Hitos[],'TABLA DE DATOS'!#REF!+$B$3,4)),"") | C7: =IFERROR(IF(LEN(OFFSET('TABLA DE DATOS'!$A7,$B$3,0,1,1))=0,Fecha_de_finalización,INDEX(Hitos[],'TABLA DE DATOS'!#REF!+$B$3,2)),"") | D7: =IFERROR(IF(LEN(OFFSET('TABLA DE DATOS'!$E7,$B$3,0,1,1))=0,"",INDEX(Hitos[],'TABLA DE DATOS'!#REF!+$B$3,5)),"") | E7: =IFERROR(IF(LEN(OFFSET('TABLA DE DATOS'!$F7,$B$3,0,1,1))=0,"",INDEX(Hitos[],'TABLA DE DATOS'!#REF!+$B$3,6)),"")
B8: =IFERROR(IF(LEN(OFFSET('TABLA DE DATOS'!$C8,$B$3,0,1,1))=0,"",INDEX(Hitos[],'TABLA DE DATOS'!#REF!+$B$3,4)),"") | C8: =IFERROR(IF(LEN(OFFSET('TABLA DE DATOS'!$A8,$B$3,0,1,1))=0,Fecha_de_finalización,INDEX(Hitos[],'TABLA DE DATOS'!#REF!+$B$3,2)),"") | D8: =IFERROR(IF(LEN(OFFSET('TABLA DE DATOS'!$E8,$B$3,0,1,1))=0,"",INDEX(Hitos[],'TABLA DE DATOS'!#REF!+$B$3,5)),"") | E8: =IFERROR(IF(LEN(OFFSET('TABLA DE DATOS'!$F8,$B$3,0,1,1))=0,"",INDEX(Hitos[],'TABLA DE DATOS'!#REF!+$B$3,6)),"")
B9: =IFERROR(IF(LEN(OFFSET('TABLA DE DATOS'!$C9,$B$3,0,1,1))=0,"",INDEX(Hitos[],'TABLA DE DATOS'!#REF!+$B$3,4)),"") | C9: =IFERROR(IF(LEN(OFFSET('TABLA DE DATOS'!$A9,$B$3,0,1,1))=0,Fecha_de_finalización,INDEX(Hitos[],'TABLA DE DATOS'!#REF!+$B$3,2)),"") | D9: =IFERROR(IF(LEN(OFFSET('TABLA DE DATOS'!$E9,$B$3,0,1,1))=0,"",INDEX(Hitos[],'TABLA DE DATOS'!#REF!+$B$3,5)),"") | E9: =IFERROR(IF(LEN(OFFSET('TABLA DE DATOS'!$F9,$B$3,0,1,1))=0,"",INDEX(Hitos[],'TABLA DE DATOS'!#REF!+$B$3,6)),"")
B10: =IFERROR(IF(LEN(OFFSET('TABLA DE DATOS'!$C10,$B$3,0,1,1))=0,"",INDEX(Hitos[],'TABLA DE DATOS'!#REF!+$B$3,4)),"") | C10: =IFERROR(IF(LEN(OFFSET('TABLA DE DATOS'!$A10,$B$3,0,1,1))=0,Fecha_de_finalización,INDEX(Hitos[],'TABLA DE DATOS'!#REF!+$B$3,2)),"") | D10: =IFERROR(IF(LEN(OFFSET('TABLA DE DATOS'!$E10,$B$3,0,1,1))=0,"",INDEX(Hitos[],'TABLA DE DATOS'!#REF!+$B$3,5)),"") | E10: =IFERROR(IF(LEN(OFFSET('TABLA DE DATOS'!$F10,$B$3,0,1,1))=0,"",INDEX(Hitos[],'TABLA DE DATOS'!#REF!+$B$3,6)),"")
